BEGIN:VCALENDAR
VERSION:2.0
PRODID:-//Bellevue Ski School - ECPv6.15.20//NONSGML v1.0//EN
CALSCALE:GREGORIAN
METHOD:PUBLISH
X-ORIGINAL-URL:https://bellevueskischool.com
X-WR-CALDESC:Events for Bellevue Ski School
REFRESH-INTERVAL;VALUE=DURATION:PT1H
X-Robots-Tag:noindex
X-PUBLISHED-TTL:PT1H
BEGIN:VTIMEZONE
TZID:America/Los_Angeles
BEGIN:DAYLIGHT
TZOFFSETFROM:-0800
TZOFFSETTO:-0700
TZNAME:PDT
DTSTART:20250309T100000
END:DAYLIGHT
BEGIN:STANDARD
TZOFFSETFROM:-0700
TZOFFSETTO:-0800
TZNAME:PST
DTSTART:20251102T090000
END:STANDARD
BEGIN:DAYLIGHT
TZOFFSETFROM:-0800
TZOFFSETTO:-0700
TZNAME:PDT
DTSTART:20260308T100000
END:DAYLIGHT
BEGIN:STANDARD
TZOFFSETFROM:-0700
TZOFFSETTO:-0800
TZNAME:PST
DTSTART:20261101T090000
END:STANDARD
BEGIN:DAYLIGHT
TZOFFSETFROM:-0800
TZOFFSETTO:-0700
TZNAME:PDT
DTSTART:20270314T100000
END:DAYLIGHT
BEGIN:STANDARD
TZOFFSETFROM:-0700
TZOFFSETTO:-0800
TZNAME:PST
DTSTART:20271107T090000
END:STANDARD
END:VTIMEZONE
BEGIN:VEVENT
DTSTART;TZID=America/Los_Angeles:20260107T183000
DTEND;TZID=America/Los_Angeles:20260107T193000
DTSTAMP:20260420T021025
CREATED:20220104T003700Z
LAST-MODIFIED:20251216T171146Z
UID:844-1767810600-1767814200@bellevueskischool.com
SUMMARY:Middle School/High School Dryland orientation for Never-Evers
DESCRIPTION:This will be the first class for registered Middle School and High School Never-Evers. Meet your instructor and learn the basics of equipment\, stance\, boarding/skiing. Make sure you have your equipment with you (skis/poles/boots or snowboard/boots). \nFollowed by mandatory orientation at 7:30pm.
URL:https://bellevueskischool.com/event/middle-school-high-school-first-class-for-never-evers-2/
LOCATION:Highland Middle School\, 15027 Bel-Red Rd\, Bellevue\, WA\, 98007
END:VEVENT
BEGIN:VEVENT
DTSTART;TZID=America/Los_Angeles:20260107T193000
DTEND;TZID=America/Los_Angeles:20260107T203000
DTSTAMP:20260420T021025
CREATED:20211010T034114Z
LAST-MODIFIED:20251216T171111Z
UID:570-1767814200-1767817800@bellevueskischool.com
SUMMARY:Middle School/High School Orientation
DESCRIPTION:Orientation for all registered Middle School and High School students and parents. Learn about their day\, what to wear and bring\, safety information\, and what happens in an emergency. Mandatory for all students new to their division program (regardless of skill level). Recommended refresher for all.
URL:https://bellevueskischool.com/event/middle-school-high-school-orientation/
LOCATION:Highland Middle School\, 15027 Bel-Red Rd\, Bellevue\, WA\, 98007
END:VEVENT
BEGIN:VEVENT
DTSTART;TZID=America/Los_Angeles:20260108T183000
DTEND;TZID=America/Los_Angeles:20260108T193000
DTSTAMP:20260420T021025
CREATED:20220104T004007Z
LAST-MODIFIED:20250403T001025Z
UID:846-1767897000-1767900600@bellevueskischool.com
SUMMARY:Elementary School Dryland orientation for Never-Evers
DESCRIPTION:This will be the first class for registered Elementary School Never-Evers. Meet your instructor and learn the basics of equipment\, stance\, boarding/skiing. Make sure you have your equipment with you (skis/poles/boots or snowboard/boots). \nFollowed by mandatory orientation at 7:30pm.
URL:https://bellevueskischool.com/event/elementary-school-first-class-for-never-evers-2/
LOCATION:Highland Middle School\, 15027 Bel-Red Rd\, Bellevue\, WA\, 98007
END:VEVENT
BEGIN:VEVENT
DTSTART;TZID=America/Los_Angeles:20260108T193000
DTEND;TZID=America/Los_Angeles:20260108T203000
DTSTAMP:20260420T021025
CREATED:20211010T035847Z
LAST-MODIFIED:20250403T000957Z
UID:579-1767900600-1767904200@bellevueskischool.com
SUMMARY:Elementary School Orientation
DESCRIPTION:Orientation for all registered Elementary School students and parents. Learn about their day\, what to wear and bring\, safety information\, and what happens in an emergency. Mandatory for all students new to their division program (regardless of skill level). Recommended refresher for all.
URL:https://bellevueskischool.com/event/elementary-school-orientation/
LOCATION:Highland Middle School\, 15027 Bel-Red Rd\, Bellevue\, WA\, 98007
END:VEVENT
BEGIN:VEVENT
DTSTART;TZID=America/Los_Angeles:20260110T071500
DTEND;TZID=America/Los_Angeles:20260110T173000
DTSTAMP:20260420T021025
CREATED:20220913T221101Z
LAST-MODIFIED:20250403T000138Z
UID:1002-1768029300-1768066200@bellevueskischool.com
SUMMARY:First Day!
DESCRIPTION:First day! Please be prompt! Buses leave on time! \n7:00am Chaperone Meeting;\n7:15am Elementary/MS/HS student dropoff;\n8:15am Elementary/MS/HS bus departure;\n3:30pm Elementary pickup;\n5:15pm MS/HS pickup
URL:https://bellevueskischool.com/event/first-day/
LOCATION:Highland Middle School\, 15027 Bel-Red Rd\, Bellevue\, WA\, 98007
END:VEVENT
BEGIN:VEVENT
DTSTART;TZID=America/Los_Angeles:20260117T073000
DTEND;TZID=America/Los_Angeles:20260117T173000
DTSTAMP:20260420T021025
CREATED:20211218T202152Z
LAST-MODIFIED:20260116T225417Z
UID:793-1768635000-1768671000@bellevueskischool.com
SUMMARY:Day 2 - Cancelled
DESCRIPTION:Classes cancelled due to unfavorable weather conditions.
URL:https://bellevueskischool.com/event/day-2-cancelled/
LOCATION:Highland Middle School\, 15027 Bel-Red Rd\, Bellevue\, WA\, 98007
END:VEVENT
BEGIN:VEVENT
DTSTART;TZID=America/Los_Angeles:20260124T073000
DTEND;TZID=America/Los_Angeles:20260124T173000
DTSTAMP:20260420T021025
CREATED:20260116T225341Z
LAST-MODIFIED:20260116T225510Z
UID:1964-1769239800-1769275800@bellevueskischool.com
SUMMARY:Day 2
DESCRIPTION:Please be prompt! Buses leave on time! \n7:45am Elementary/MS/HS student dropoff;\n8:15am Elementary/MS/HS bus departure;\n3:30pm Elementary pickup;\n5:15pm MS/HS pickup
URL:https://bellevueskischool.com/event/day-2/
LOCATION:Highland Middle School\, 15027 Bel-Red Rd\, Bellevue\, WA\, 98007
END:VEVENT
BEGIN:VEVENT
DTSTART;TZID=America/Los_Angeles:20260131T073000
DTEND;TZID=America/Los_Angeles:20260131T173000
DTSTAMP:20260420T021025
CREATED:20211218T203555Z
LAST-MODIFIED:20260116T225534Z
UID:800-1769844600-1769880600@bellevueskischool.com
SUMMARY:Day 3
DESCRIPTION:Please be prompt! Buses leave on time! \n7:35am Elementary/MS/HS student dropoff;\n8:15am Elementary/MS/HS bus departure;\n3:30pm Elementary pickup;\n5:15pm MS/HS pickup
URL:https://bellevueskischool.com/event/day-3/
LOCATION:Highland Middle School\, 15027 Bel-Red Rd\, Bellevue\, WA\, 98007
END:VEVENT
END:VCALENDAR